BEGIN:VCALENDAR
VERSION:2.0
PRODID:-//Orchestra Santa Monica - ECPv6.15.20//NONSGML v1.0//EN
CALSCALE:GREGORIAN
METHOD:PUBLISH
X-WR-CALNAME:Orchestra Santa Monica
X-ORIGINAL-URL:https://orchestrasantamonica.org
X-WR-CALDESC:Events for Orchestra Santa Monica
REFRESH-INTERVAL;VALUE=DURATION:PT1H
X-Robots-Tag:noindex
X-PUBLISHED-TTL:PT1H
BEGIN:VTIMEZONE
TZID:UTC
BEGIN:STANDARD
TZOFFSETFROM:+0000
TZOFFSETTO:+0000
TZNAME:UTC
DTSTART:20220101T000000
END:STANDARD
END:VTIMEZONE
BEGIN:VEVENT
DTSTART;TZID=UTC:20231118T193000
DTEND;TZID=UTC:20231118T213000
DTSTAMP:20260423T084636
CREATED:20230821T075348Z
LAST-MODIFIED:20251003T011622Z
UID:3254-1700335800-1700343000@orchestrasantamonica.org
SUMMARY:Nabors\, Beethoven & Schumann (NOV 2023)
DESCRIPTION:Barber & HansonJune 27\, 2026 (SAT) @ 7:30pmSanta Monica College Performing Arts Center*Eli and Edythe Broad Stage1310 11th St\, Santa Monica Roger Kalia\, conductorAubree Oliverson\, violinistProgram Samuel Barber: Essay No. 2Erich Korngold: Violin Concerto in D major (soloist\, Aubree Oliverson) Howard Hanson: Symphony No. 2 Free tickets will be available to the public starting May 16 at 12:00 pm. A link to the Eventbrite ticket order page will be provided here soon. **NOTE**: Please read our updated ticket and admission procedures To be added to OSM’s e-Newsletter distribution to receive our announcements\, visit Newsletter Sign-Up 								\n				\n					\n		\n					\n		\n				\n						\n					\n			\n						\n				\n							\n			\n						\n		\n						\n				\n					\n		\n					\n		\n				\n						\n					\n			\n						\n				\n									These programs are supported\, in part\, with grant support from the City of Santa Monica Cultural Affairs\, We Are Santa Monica Fund\, the Los Angeles County Board of Supervisors through the Department of Arts and Culture\, and The Musicians Performance Trust Fund. *The program does not constitute an endorsement by Santa Monica College. 
URL:https://orchestrasantamonica.org/event/nabors-beethoven-and-schumann/
LOCATION:Barnum Hall\, Santa Monica High School\, 600 Olympic Blvd\, Santa Monica\, 90405
CATEGORIES:2023-2024 Season,Shows,Slider
ATTACH;FMTTYPE=image/jpeg:https://orchestrasantamonica.org/wp-content/uploads/2023/10/Vijay-Venkatesh-two-pianos-photo-credit-Martin-Chalifour-1-scaled.jpeg
ORGANIZER;CN="Orchestra Santa Monica":MAILTO:office@OrchestraSantaMonica.org
END:VEVENT
END:VCALENDAR